BEGIN:VCALENDAR
VERSION:2.0
PRODID:-//The Windward Institute - ECPv6.15.17//NONSGML v1.0//EN
CALSCALE:GREGORIAN
METHOD:PUBLISH
X-WR-CALNAME:The Windward Institute
X-ORIGINAL-URL:https://thewindwardinstitute.org
X-WR-CALDESC:Events for The Windward Institute
REFRESH-INTERVAL;VALUE=DURATION:PT1H
X-Robots-Tag:noindex
X-PUBLISHED-TTL:PT1H
BEGIN:VTIMEZONE
TZID:America/New_York
BEGIN:DAYLIGHT
TZOFFSETFROM:-0500
TZOFFSETTO:-0400
TZNAME:EDT
DTSTART:20250309T070000
END:DAYLIGHT
BEGIN:STANDARD
TZOFFSETFROM:-0400
TZOFFSETTO:-0500
TZNAME:EST
DTSTART:20251102T060000
END:STANDARD
BEGIN:DAYLIGHT
TZOFFSETFROM:-0500
TZOFFSETTO:-0400
TZNAME:EDT
DTSTART:20260308T070000
END:DAYLIGHT
BEGIN:STANDARD
TZOFFSETFROM:-0400
TZOFFSETTO:-0500
TZNAME:EST
DTSTART:20261101T060000
END:STANDARD
BEGIN:DAYLIGHT
TZOFFSETFROM:-0500
TZOFFSETTO:-0400
TZNAME:EDT
DTSTART:20270314T070000
END:DAYLIGHT
BEGIN:STANDARD
TZOFFSETFROM:-0400
TZOFFSETTO:-0500
TZNAME:EST
DTSTART:20271107T060000
END:STANDARD
END:VTIMEZONE
BEGIN:VEVENT
DTSTART;TZID=America/New_York:20260713T090000
DTEND;TZID=America/New_York:20260715T143000
DTSTAMP:20260421T103537
CREATED:20260326T154811Z
LAST-MODIFIED:20260420T152838Z
UID:10000548-1783933200-1784125800@thewindwardinstitute.org
SUMMARY:Multisensory Reading Instruction: PAF Summer 2026
DESCRIPTION:Date: July 13\, 14\, and July 15\, 2026\, 9:00 a.m. – 2:30 p.m. ET\nInstructor: Colleen McGlynn\, MsEd & Alison Leveque\, PhD.\nGrades: K-8\nLocation: In-person at the Windward Westchester Lower School Campus in White Plains\, NY or virtual Price: $675 (PAF Manuals Included)\nCredentials: 16.5 Approved CTLE Hours \nDescription:\nThe Multisensory Reading Instruction: PAF Reading Program is a systematic\, structured program for teaching reading\, spelling\, and handwriting. It emphasizes explicit\, multisensory techniques highlighted by the National Reading Panel (2000) and supporting research and incorporates the theories and practices of Orton-Gillingham instruction. This program is applicable for all students when started in the early elementary grades and as an intervention program for struggling readers. \nKey Learning Objectives: \n\nUnderstand the current research on the instructional methodologies that supports reading development\nLearn a comprehensive instructional sequence that teaches a systematic approach to word reading\, spelling\, fluency\, and comprehension\nPractice planning daily lessons incorporating PAF strategies and resources\nIncorporate curriculum-based assessments to evaluate student progress and plan for instruction
URL:https://thewindwardinstitute.org/event/multisensory-reading-instruction-paf-summer-2026/
LOCATION:Westchester Lower School Campus\, 1275 Mamaroneck Avenue\, White Plains\, NY\, 10605\, United States
CATEGORIES:Summer Institutes,Workshops
ORGANIZER;CN="The Windward Institute":MAILTO:wi@thewindwardschool.org
END:VEVENT
END:VCALENDAR