BEGIN:VCALENDAR
VERSION:2.0
PRODID:-//The Windward Institute - ECPv6.15.17//NONSGML v1.0//EN
CALSCALE:GREGORIAN
METHOD:PUBLISH
X-WR-CALNAME:The Windward Institute
X-ORIGINAL-URL:https://thewindwardinstitute.org
X-WR-CALDESC:Events for The Windward Institute
REFRESH-INTERVAL;VALUE=DURATION:PT1H
X-Robots-Tag:noindex
X-PUBLISHED-TTL:PT1H
BEGIN:VTIMEZONE
TZID:America/New_York
BEGIN:DAYLIGHT
TZOFFSETFROM:-0500
TZOFFSETTO:-0400
TZNAME:EDT
DTSTART:20250309T070000
END:DAYLIGHT
BEGIN:STANDARD
TZOFFSETFROM:-0400
TZOFFSETTO:-0500
TZNAME:EST
DTSTART:20251102T060000
END:STANDARD
BEGIN:DAYLIGHT
TZOFFSETFROM:-0500
TZOFFSETTO:-0400
TZNAME:EDT
DTSTART:20260308T070000
END:DAYLIGHT
BEGIN:STANDARD
TZOFFSETFROM:-0400
TZOFFSETTO:-0500
TZNAME:EST
DTSTART:20261101T060000
END:STANDARD
BEGIN:DAYLIGHT
TZOFFSETFROM:-0500
TZOFFSETTO:-0400
TZNAME:EDT
DTSTART:20270314T070000
END:DAYLIGHT
BEGIN:STANDARD
TZOFFSETFROM:-0400
TZOFFSETTO:-0500
TZNAME:EST
DTSTART:20271107T060000
END:STANDARD
END:VTIMEZONE
BEGIN:VEVENT
DTSTART;TZID=America/New_York:20260225T163000
DTEND;TZID=America/New_York:20260225T183000
DTSTAMP:20260419T084139
CREATED:20251211T235153Z
LAST-MODIFIED:20260225T194428Z
UID:10000087-1772037000-1772044200@thewindwardinstitute.org
SUMMARY:Making Complex Text Accessible: Instructional Practices to Lift Every Reader
DESCRIPTION:Date: Wednesday\, February 25\, 2026\, 4:30 pm- 6:30 pm. EST\nInstructor: Alison Leveque\, PhD\nGrades: 2-8\nPrice: $ 120 \nWhy This Workshop: \nEffective instruction ensures that all students\, regardless of reading ability\, can engage meaningfully with complex texts. This session introduces evidence-based before-\, during-\, and after-reading strategies that build comprehension\, maintain rigor\, and develop critical thinking skills. \n\nKey Learning Objectives:  \n\nImplement pre-reading strategies to activate prior knowledge\, set reading goals\, and prepare students for active reading\n\n\nUse during-reading strategies\, including structured annotation\, graphic organizers\, and questioning techniques to deepen comprehension\n\n\nDesign after-reading activities that promote synthesis\, critical thinking\, and text-based discussion\n\n\nExplore the role of teacher modeling and explicit strategy instruction in comprehension development\nUnderstand the role of comprehension monitoring and learn fix-up strategies to support struggling readers
URL:https://thewindwardinstitute.org/event/making-complex-text-accessible/
CATEGORIES:Workshops
ATTACH;FMTTYPE=image/png:https://thewindwardinstitute.org/wp-content/uploads/2025/12/banner-test-7-3-e1765812105656.png
LOCATION:https://thewindwardschool-org.zoom.us/j/93444105798
END:VEVENT
END:VCALENDAR