BEGIN:VCALENDAR
VERSION:2.0
PRODID:-//The Windward Institute - ECPv6.15.17//NONSGML v1.0//EN
CALSCALE:GREGORIAN
METHOD:PUBLISH
X-ORIGINAL-URL:https://thewindwardinstitute.org
X-WR-CALDESC:Events for The Windward Institute
REFRESH-INTERVAL;VALUE=DURATION:PT1H
X-Robots-Tag:noindex
X-PUBLISHED-TTL:PT1H
BEGIN:VTIMEZONE
TZID:America/New_York
BEGIN:DAYLIGHT
TZOFFSETFROM:-0500
TZOFFSETTO:-0400
TZNAME:EDT
DTSTART:20250309T070000
END:DAYLIGHT
BEGIN:STANDARD
TZOFFSETFROM:-0400
TZOFFSETTO:-0500
TZNAME:EST
DTSTART:20251102T060000
END:STANDARD
BEGIN:DAYLIGHT
TZOFFSETFROM:-0500
TZOFFSETTO:-0400
TZNAME:EDT
DTSTART:20260308T070000
END:DAYLIGHT
BEGIN:STANDARD
TZOFFSETFROM:-0400
TZOFFSETTO:-0500
TZNAME:EST
DTSTART:20261101T060000
END:STANDARD
BEGIN:DAYLIGHT
TZOFFSETFROM:-0500
TZOFFSETTO:-0400
TZNAME:EDT
DTSTART:20270314T070000
END:DAYLIGHT
BEGIN:STANDARD
TZOFFSETFROM:-0400
TZOFFSETTO:-0500
TZNAME:EST
DTSTART:20271107T060000
END:STANDARD
END:VTIMEZONE
BEGIN:VEVENT
DTSTART;TZID=America/New_York:20260209T163000
DTEND;TZID=America/New_York:20260209T183000
DTSTAMP:20260419T101417
CREATED:20251217T021657Z
LAST-MODIFIED:20260218T145312Z
UID:10000098-1770654600-1770661800@thewindwardinstitute.org
SUMMARY:Promoting Executive Functioning through Time Management and Self-Regulation Strategies
DESCRIPTION:Date: Monday\, February 9\, 2026\, 4:30 p.m. – 6:30 p.m. EST\nInstructor: Jackie Britt-Friedman\, PsyD\nGrade: 1 – 6\nPrice: $ 120\nCredentials: 2 Approved CTLE Hours \nWhy This Workshop \nThis workshop helps teachers and caregivers equip children with the executive function skills they need to succeed—such as emotional regulation\, goal-setting\, problem-solving\, and the ability to initiate\, sustain\, and complete tasks. Participants will explore how time management connects to core EF processes including planning\, organization\, self-monitoring\, and persistence. Participants will leave with practical routines\, visual tools\, and suggested structures that make it easier for students to regulate themselves\, manage transitions\, and follow through on responsibilities. \nKey Learning Objectives \n\nUnderstand the relationship between time management and other key executive function skills\nExpand knowledge about practical routines and visual tools that support students in planning\, organizing\, and managing transitions more independently\nLearn goal‑setting strategies that guide students in breaking tasks into manageable steps and monitoring their own progress\nIdentify strategies to help students develop coping strategies and regulate emotions
URL:https://thewindwardinstitute.org/event/promoting-executive-functioning-through-time-management-and-self-regulation-strategies/
CATEGORIES:Workshops
LOCATION:https://thewindwardschool-org.zoom.us/j/95459855807
END:VEVENT
END:VCALENDAR