BEGIN:VCALENDAR
VERSION:2.0
PRODID:-//The Windward Institute - ECPv6.15.17//NONSGML v1.0//EN
CALSCALE:GREGORIAN
METHOD:PUBLISH
X-WR-CALNAME:The Windward Institute
X-ORIGINAL-URL:https://thewindwardinstitute.org
X-WR-CALDESC:Events for The Windward Institute
REFRESH-INTERVAL;VALUE=DURATION:PT1H
X-Robots-Tag:noindex
X-PUBLISHED-TTL:PT1H
BEGIN:VTIMEZONE
TZID:UTC
BEGIN:STANDARD
TZOFFSETFROM:+0000
TZOFFSETTO:+0000
TZNAME:UTC
DTSTART:20240101T000000
END:STANDARD
END:VTIMEZONE
BEGIN:VEVENT
DTSTART;TZID=UTC:20251112T090000
DTEND;TZID=UTC:20251112T113000
DTSTAMP:20260419T153017
CREATED:20250815T184003Z
LAST-MODIFIED:20250827T201122Z
UID:10000061-1762938000-1762947000@thewindwardinstitute.org
SUMMARY:Laying the Foundation: Phonemic Awareness Routines That Work
DESCRIPTION:Price: $ 150 \nDate: Wednesday\, November 12th from 9:00 a.m. – 11:30 a.m. ET \nInstructors: Nicole Berkowitz\, MS\, CCC-SLP and Diane Happas\, MA CCC-SLP \nGrades: PK-3 \nWhy this Workshop: \nPhonemic awareness is essential for early reading success\, yet many students struggle with sound recognition\, blending\, and segmentation. This interactive workshop will help educators understand the role of phonemic awareness in literacy development and provide actionable ways to support it in daily instruction. The session will highlight engaging activities that benefit all learners and can be easily incorporated into any early literacy program. Participants will explore common challenges—such as difficulty distinguishing similar sounds or manipulating phonemes—as well as effective scaffolding and intervention strategies.  \n  \nKey Learning Objectives:  \n\nUnderstand the role of phonemic awareness in early literacy and its connection to decoding\, spelling\, and fluent reading\nIdentify common areas of difficulty—including sound discrimination\, blending\, and segmentation—and recognize how these challenges may appear in student performance\nExplore a variety of adaptable routines and games to build phonemic awareness across student skill levels\nGain ready-to-use tools and routines that align with phonemic awareness goals and fit within any curriculum
URL:https://thewindwardinstitute.org/event/laying-the-foundation-phonemic-awareness-routines-that-work/
CATEGORIES:Workshops
LOCATION:https://thewindwardinstitute.org/event/laying-the-foundation-phonemic-awareness-routines-that-work/
END:VEVENT
BEGIN:VEVENT
DTSTART;TZID=UTC:20251112T163000
DTEND;TZID=UTC:20251112T183000
DTSTAMP:20260419T153017
CREATED:20250815T184314Z
LAST-MODIFIED:20250816T000935Z
UID:10000062-1762965000-1762972200@thewindwardinstitute.org
SUMMARY:Comprehension Strategies for Every Subject
DESCRIPTION:Price: $ 120 \nDate: Wednesday\, November 12th from 4:30 p.m. – 6:30 p.m. ET \nInstructors: Alison Leveque\, PhD and Sarah Martin\, EdD \nGrades: 2-8 \nWhy this Workshop:  \nStudents encounter complex texts across all subject areas. This workshop explores practical strategies to help learners analyze\, interpret\, and synthesize text-based information across various academic disciplines. Participants will learn practical strategies to strengthen students’ comprehension and reasoning skills\, while navigating challenging texts with greater purpose and precision.  \nKey Learning Objectives:  \n\nLearn before-\, during-\, and after-reading strategies that support comprehension across a variety of text types\n\n\nImplement effective vocabulary instruction for conceptual understanding\, retention\, and transfer\nIntegrate short\, purposeful writing tasks to reinforce understanding and build critical thinking skills\n\n\nLeave with a toolkit of strategies\, templates\, and checklists to make the most of content literacy across subjects
URL:https://thewindwardinstitute.org/event/comprehension-strategies-for-every-subject/
CATEGORIES:Workshops
END:VEVENT
END:VCALENDAR